BEGIN:VCALENDAR
VERSION:2.0
PRODID:-//myPocketTech - ECPv6.15.20//NONSGML v1.0//EN
CALSCALE:GREGORIAN
METHOD:PUBLISH
X-WR-CALNAME:myPocketTech
X-ORIGINAL-URL:https://mypockettech.app
X-WR-CALDESC:Events for myPocketTech
REFRESH-INTERVAL;VALUE=DURATION:PT1H
X-Robots-Tag:noindex
X-PUBLISHED-TTL:PT1H
BEGIN:VTIMEZONE
TZID:America/Denver
BEGIN:DAYLIGHT
TZOFFSETFROM:-0700
TZOFFSETTO:-0600
TZNAME:MDT
DTSTART:20250309T090000
END:DAYLIGHT
BEGIN:STANDARD
TZOFFSETFROM:-0600
TZOFFSETTO:-0700
TZNAME:MST
DTSTART:20251102T080000
END:STANDARD
BEGIN:DAYLIGHT
TZOFFSETFROM:-0700
TZOFFSETTO:-0600
TZNAME:MDT
DTSTART:20260308T090000
END:DAYLIGHT
BEGIN:STANDARD
TZOFFSETFROM:-0600
TZOFFSETTO:-0700
TZNAME:MST
DTSTART:20261101T080000
END:STANDARD
BEGIN:DAYLIGHT
TZOFFSETFROM:-0700
TZOFFSETTO:-0600
TZNAME:MDT
DTSTART:20270314T090000
END:DAYLIGHT
BEGIN:STANDARD
TZOFFSETFROM:-0600
TZOFFSETTO:-0700
TZNAME:MST
DTSTART:20271107T080000
END:STANDARD
END:VTIMEZONE
BEGIN:VEVENT
DTSTART;VALUE=DATE:20260325
DTEND;VALUE=DATE:20260601
DTSTAMP:20260419T162221
CREATED:20260321T010033Z
LAST-MODIFIED:20260321T010033Z
UID:6172-1774396800-1780271999@mypockettech.app
SUMMARY:Colorado Here I come
DESCRIPTION:I will be coming to Grand Junction\, CO for the Spring/Summer months! I will be available for Bookings for Teaching and for Service Requests.
URL:https://mypockettech.app/event/colorado-here-i-come/
ORGANIZER;CN="GSTRV":MAILTO:gstrvinfo@gmail.com
END:VEVENT
END:VCALENDAR